BEGIN:VCALENDAR
VERSION:2.0
PRODID:-//Unate - ECPv6.15.20//NONSGML v1.0//EN
CALSCALE:GREGORIAN
METHOD:PUBLISH
X-WR-CALNAME:Unate
X-ORIGINAL-URL:https://unate.es
X-WR-CALDESC:Eventos para Unate
REFRESH-INTERVAL;VALUE=DURATION:PT1H
X-Robots-Tag:noindex
X-PUBLISHED-TTL:PT1H
BEGIN:VTIMEZONE
TZID:Europe/Helsinki
BEGIN:DAYLIGHT
TZOFFSETFROM:+0200
TZOFFSETTO:+0300
TZNAME:EEST
DTSTART:20250330T010000
END:DAYLIGHT
BEGIN:STANDARD
TZOFFSETFROM:+0300
TZOFFSETTO:+0200
TZNAME:EET
DTSTART:20251026T010000
END:STANDARD
BEGIN:DAYLIGHT
TZOFFSETFROM:+0200
TZOFFSETTO:+0300
TZNAME:EEST
DTSTART:20260329T010000
END:DAYLIGHT
BEGIN:STANDARD
TZOFFSETFROM:+0300
TZOFFSETTO:+0200
TZNAME:EET
DTSTART:20261025T010000
END:STANDARD
BEGIN:DAYLIGHT
TZOFFSETFROM:+0200
TZOFFSETTO:+0300
TZNAME:EEST
DTSTART:20270328T010000
END:DAYLIGHT
BEGIN:STANDARD
TZOFFSETFROM:+0300
TZOFFSETTO:+0200
TZNAME:EET
DTSTART:20271031T010000
END:STANDARD
END:VTIMEZONE
BEGIN:VEVENT
DTSTART;TZID=Europe/Helsinki:20260416T180000
DTEND;TZID=Europe/Helsinki:20260416T190000
DTSTAMP:20260419T211333
CREATED:20260415T102059Z
LAST-MODIFIED:20260416T075212Z
UID:20561-1776362400-1776366000@unate.es
SUMMARY:Piélagos | Conferencia: 'Carmen Martín Gaite: Una vida hecha escritura'
DESCRIPTION:Con Leticia Bustamante\, licenciada en Filología Hispánica por la Universidad de Valladolid. \nUn recorrido por la vida y la obra de Carmen Martín Gaite (1925-2000)\, autora de obras notables como ‘Ritmo lento’\, ‘Caperucita en Manhattan’ o ‘El cuarto de atrás’\, y una de las figuras más importantes de la literatura española y de las letras hispánicas en su sentido más amplio a lo largo del siglo XX. \n  \nColabora: Ayuntamiento de Piélagos \nAcceso libre hasta completar aforo \n 
URL:https://unate.es/agenda/camargo-conferencia-carmen-martin-gaite-una-vida-hecha-escritura/
LOCATION:Centro Cultural Quijano de Piélagos\, Bo. la Herrería\, 4\, Quijano de Piélagos\, Cantabria\, 39477\, España
CATEGORIES:Conferencia
ATTACH;FMTTYPE=image/png:https://unate.es/wp-content/uploads/2026/02/martin_gaite_carmen_web.png
END:VEVENT
END:VCALENDAR