BEGIN:VCALENDAR
VERSION:2.0
PRODID:-//Unate - ECPv6.15.20//NONSGML v1.0//EN
CALSCALE:GREGORIAN
METHOD:PUBLISH
X-ORIGINAL-URL:https://unate.es
X-WR-CALDESC:Eventos para Unate
REFRESH-INTERVAL;VALUE=DURATION:PT1H
X-Robots-Tag:noindex
X-PUBLISHED-TTL:PT1H
BEGIN:VTIMEZONE
TZID:Europe/Helsinki
BEGIN:DAYLIGHT
TZOFFSETFROM:+0200
TZOFFSETTO:+0300
TZNAME:EEST
DTSTART:20250330T010000
END:DAYLIGHT
BEGIN:STANDARD
TZOFFSETFROM:+0300
TZOFFSETTO:+0200
TZNAME:EET
DTSTART:20251026T010000
END:STANDARD
BEGIN:DAYLIGHT
TZOFFSETFROM:+0200
TZOFFSETTO:+0300
TZNAME:EEST
DTSTART:20260329T010000
END:DAYLIGHT
BEGIN:STANDARD
TZOFFSETFROM:+0300
TZOFFSETTO:+0200
TZNAME:EET
DTSTART:20261025T010000
END:STANDARD
BEGIN:DAYLIGHT
TZOFFSETFROM:+0200
TZOFFSETTO:+0300
TZNAME:EEST
DTSTART:20270328T010000
END:DAYLIGHT
BEGIN:STANDARD
TZOFFSETFROM:+0300
TZOFFSETTO:+0200
TZNAME:EET
DTSTART:20271031T010000
END:STANDARD
END:VTIMEZONE
BEGIN:VEVENT
DTSTART;TZID=Europe/Helsinki:20260606T083000
DTEND;TZID=Europe/Helsinki:20260606T213000
DTSTAMP:20260422T235818
CREATED:20260421T145931Z
LAST-MODIFIED:20260421T150742Z
UID:20605-1780734600-1780781400@unate.es
SUMMARY:Viaje/salida didáctica: Geografía física por el Sur de Cantabria
DESCRIPTION:Fontibre –  Corconte – Orbaneja del Castillo – Mirador de la Lora Polientes – Riopanero -Arija – Arroyo \nCon Francisco Conde Oria\, profesor de GEOGRAFÍA FÍSICA: AYER\, HOY Y MAÑANA DE NUESTRO PLANETA y DE LA ALDEA A LA METRÓPOLI: ENTENDER EL CRECIMIENTO URBANO en UNATE NÁUTICA \nItinerario: \nSalidas:8:45 Astillero 9:00 Santander\, 9:10 Bezana 9:25 Torrelavega\, Puntos habituales de recogida. Parada técnica en ruta. \nFontibre | Nacimiento del Ebro \n10:15.-Llegada a FONTIBRE visitaremos el Centro de Interpretación del Río Ebro (tiene dos áreas expositivas en las que se abordan la historia y los usos del río) \n11:15 Salida hacia CORCONTE para conocer el Centro de Interpretación del Embalse del Ebro (En el recorrido del Centro\, se facilitan una serie de recomendaciones para un consumo más eficiente del agua además de conocer la historia de la formación del pantano y sus consecuencias para los habitantes de la zona) \n12:15.- Pararemos para Café  \nOrbaneja del Castillo \n12:45.- Salida hacia ORBANEJA DEL CASTILLO\, visita comentada de este bonito e interesante pueblo. \n14:15.- Salida para Polientes \n14:30.– Comida en restaurante \n16:30.- Nos acercaremos al MIRADOR DE LA LORA  \n17:00.- Salida hacia ARIJA y ARROYO comentando los poblamientos situados \nalrededor del Embalse del Ebro\, y la importancia del río en la geografía física del \nsur de Cantabria  \n18:30 Reinosa tiempo libre para dar una vuelta y aseos \n19:30.- Salida hacia lugares de origen\, parada en ruta\, llegada aproximada a las 20:30 horas. \nImporte socias/os: 79\,00€ | Tarifa General: 89€\nIncluye: Autobús Ida/Vta. – Autocares Juan – 2 Acompañantes (Profesor Francisco Conde Oria y representante de UNATE) – Comida en Restaurante San Patiel en Polientes – Seguro Viaje
URL:https://unate.es/agenda/viaje-salida-didactica-geografia-fisica-por-el-sur-de-cantabria/
CATEGORIES:Viaje Cultural
ATTACH;FMTTYPE=image/jpeg:https://unate.es/wp-content/uploads/2026/04/Arija20060515aereo1.jpg
END:VEVENT
END:VCALENDAR